Package: sampleClassifier Version: 1.28.0 Command: rm -rf sampleClassifier.buildbin-libdir && mkdir sampleClassifier.buildbin-libdir && /Users/biocbuild/BBS/utils/build-universal.sh sampleClassifier_1.28.0.tar.gz /Library/Frameworks/R.framework/Resources/bin/R sampleClassifier.buildbin-libdir StartedAt: 2024-10-15 20:04:23 -0400 (Tue, 15 Oct 2024) EndedAt: 2024-10-15 20:04:47 -0400 (Tue, 15 Oct 2024) EllapsedTime: 24.0 seconds RetCode: 0 Status: OK PackageFile: sampleClassifier_1.28.0.tgz PackageFileSize: 270.8 KiB