Package: sagenhaft Version: 1.74.0 Command: E:\biocbuild\bbs-3.19-bioc\R\bin\R.exe CMD check --no-multiarch --install=check:sagenhaft.install-out.txt --library=E:\biocbuild\bbs-3.19-bioc\R\library --no-vignettes --timings sagenhaft_1.74.0.tar.gz StartedAt: 2024-10-17 05:20:05 -0400 (Thu, 17 Oct 2024) EndedAt: 2024-10-17 05:21:50 -0400 (Thu, 17 Oct 2024) EllapsedTime: 105.0 seconds RetCode: 0 Status: WARNINGS CheckDir: sagenhaft.Rcheck Warnings: 1