Package: sagenhaft Version: 1.74.0 Command: chmod a+r sagenhaft -R && F:\biocbuild\bbs-3.19-bioc\R\bin\R.exe CMD build --keep-empty-dirs --no-resave-data sagenhaft StartedAt: 2024-06-26 21:36:20 -0400 (Wed, 26 Jun 2024) EndedAt: 2024-06-26 21:36:36 -0400 (Wed, 26 Jun 2024) EllapsedTime: 16.3 seconds RetCode: 0 Status: OK PackageFile: sagenhaft_1.74.0.tar.gz PackageFileSize: 2.5 MiB