Package: sagenhaft Version: 1.74.0 Command: /home/biocbuild/R/R-beta-2024-04-15_r86425/bin/R CMD check --install=check:sagenhaft.install-out.txt --library=/home/biocbuild/R/R-beta-2024-04-15_r86425/site-library --no-vignettes --timings sagenhaft_1.74.0.tar.gz StartedAt: 2024-05-09 11:30:51 -0000 (Thu, 09 May 2024) EndedAt: 2024-05-09 11:32:55 -0000 (Thu, 09 May 2024) EllapsedTime: 123.2 seconds RetCode: 0 Status: WARNINGS CheckDir: sagenhaft.Rcheck Warnings: 1