Package: sagenhaft Version: 1.74.0 Command: /home/biocbuild/R/R-beta-2024-04-15_r86425/bin/R CMD build --keep-empty-dirs --no-resave-data sagenhaft StartedAt: 2024-05-09 03:15:08 -0000 (Thu, 09 May 2024) EndedAt: 2024-05-09 03:15:17 -0000 (Thu, 09 May 2024) EllapsedTime: 9.0 seconds RetCode: 0 Status: OK PackageFile: sagenhaft_1.74.0.tar.gz PackageFileSize: 2.574 MiB