Package: sagenhaft Version: 1.74.0 Command: /Library/Frameworks/R.framework/Resources/bin/R CMD build --keep-empty-dirs --no-resave-data sagenhaft StartedAt: 2024-10-17 08:11:37 -0400 (Thu, 17 Oct 2024) EndedAt: 2024-10-17 08:11:53 -0400 (Thu, 17 Oct 2024) EllapsedTime: 15.8 seconds RetCode: 0 Status: OK PackageFile: sagenhaft_1.74.0.tar.gz PackageFileSize: 2.583 MiB