Package: sagenhaft Version: 1.74.0 Command: rm -rf sagenhaft.buildbin-libdir && mkdir sagenhaft.buildbin-libdir && /Users/biocbuild/BBS/utils/build-universal.sh sagenhaft_1.74.0.tar.gz /Library/Frameworks/R.framework/Resources/bin/R sagenhaft.buildbin-libdir StartedAt: 2024-10-15 20:04:11 -0400 (Tue, 15 Oct 2024) EndedAt: 2024-10-15 20:04:18 -0400 (Tue, 15 Oct 2024) EllapsedTime: 6.9 seconds RetCode: 0 Status: OK PackageFile: sagenhaft_1.74.0.tgz PackageFileSize: 2.701 MiB