Package: safe Version: 3.44.0 Command: rm -rf safe.buildbin-libdir && mkdir safe.buildbin-libdir && F:\biocbuild\bbs-3.19-bioc\R\bin\R.exe CMD INSTALL --build --library=safe.buildbin-libdir safe_3.44.0.tar.gz StartedAt: 2024-06-27 08:50:59 -0400 (Thu, 27 Jun 2024) EndedAt: 2024-06-27 08:51:31 -0400 (Thu, 27 Jun 2024) EllapsedTime: 32.0 seconds RetCode: 0 Status: OK PackageFile: safe_3.44.0.zip PackageFileSize: 704.3 KiB