Package: safe Version: 3.44.0 Command: /Library/Frameworks/R.framework/Resources/bin/R CMD check --install=check:safe.install-out.txt --library=/Library/Frameworks/R.framework/Resources/library --no-vignettes --timings safe_3.44.0.tar.gz StartedAt: 2024-10-17 12:21:46 -0400 (Thu, 17 Oct 2024) EndedAt: 2024-10-17 12:25:26 -0400 (Thu, 17 Oct 2024) EllapsedTime: 220.2 seconds RetCode: 0 Status: OK CheckDir: safe.Rcheck Warnings: 0