Package: sSeq Version: 1.42.0 Command: E:\biocbuild\bbs-3.19-bioc\R\bin\R.exe CMD INSTALL sSeq StartedAt: 2024-10-16 16:01:10 -0400 (Wed, 16 Oct 2024) EndedAt: 2024-10-16 16:01:23 -0400 (Wed, 16 Oct 2024) EllapsedTime: 13.2 seconds RetCode: 0 Status: OK