Package: sSeq Version: 1.42.0 Command: chmod a+r sSeq -R && E:\biocbuild\bbs-3.19-bioc\R\bin\R.exe CMD build --keep-empty-dirs --no-resave-data sSeq StartedAt: 2024-10-16 22:11:50 -0400 (Wed, 16 Oct 2024) EndedAt: 2024-10-16 22:13:46 -0400 (Wed, 16 Oct 2024) EllapsedTime: 115.9 seconds RetCode: 0 Status: OK PackageFile: sSeq_1.42.0.tar.gz PackageFileSize: 4.203 MiB