Package: sSeq Version: 1.42.0 Command: F:\biocbuild\bbs-3.19-bioc\R\bin\R.exe CMD check --no-multiarch --install=check:sSeq.install-out.txt --library=F:\biocbuild\bbs-3.19-bioc\R\library --no-vignettes --timings sSeq_1.42.0.tar.gz StartedAt: 2024-06-27 06:38:18 -0400 (Thu, 27 Jun 2024) EndedAt: 2024-06-27 06:43:45 -0400 (Thu, 27 Jun 2024) EllapsedTime: 328.0 seconds RetCode: 0 Status: OK CheckDir: sSeq.Rcheck Warnings: 0