Package: sSeq Version: 1.42.0 Command: /home/biocbuild/bbs-3.19-bioc/R/bin/R CMD INSTALL sSeq StartedAt: 2024-10-16 15:50:57 -0400 (Wed, 16 Oct 2024) EndedAt: 2024-10-16 15:51:08 -0400 (Wed, 16 Oct 2024) EllapsedTime: 10.6 seconds RetCode: 0 Status: OK