Package: sSeq Version: 1.42.0 Command: /home/biocbuild/bbs-3.19-bioc/R/bin/R CMD check --install=check:sSeq.install-out.txt --library=/home/biocbuild/bbs-3.19-bioc/R/site-library --timings sSeq_1.42.0.tar.gz StartedAt: 2024-10-17 05:34:56 -0400 (Thu, 17 Oct 2024) EndedAt: 2024-10-17 05:38:02 -0400 (Thu, 17 Oct 2024) EllapsedTime: 186.4 seconds RetCode: 0 Status: OK CheckDir: sSeq.Rcheck Warnings: 0