Package: sSeq Version: 1.42.0 Command: /home/biocbuild/bbs-3.19-bioc/R/bin/R CMD build --keep-empty-dirs --no-resave-data sSeq StartedAt: 2024-10-16 21:02:29 -0400 (Wed, 16 Oct 2024) EndedAt: 2024-10-16 21:03:28 -0400 (Wed, 16 Oct 2024) EllapsedTime: 59.1 seconds RetCode: 0 Status: OK PackageFile: sSeq_1.42.0.tar.gz PackageFileSize: 4.201 MiB