Package: sSeq Version: 1.42.0 Command: /Library/Frameworks/R.framework/Resources/bin/R CMD build --keep-empty-dirs --no-resave-data sSeq StartedAt: 2024-10-16 23:44:09 -0400 (Wed, 16 Oct 2024) EndedAt: 2024-10-16 23:46:47 -0400 (Wed, 16 Oct 2024) EllapsedTime: 157.9 seconds RetCode: 0 Status: OK PackageFile: sSeq_1.42.0.tar.gz PackageFileSize: 4.201 MiB