Package: sSNAPPY Version: 1.8.0 Command: chmod a+r sSNAPPY -R && E:\biocbuild\bbs-3.19-bioc\R\bin\R.exe CMD build --keep-empty-dirs --no-resave-data sSNAPPY StartedAt: 2024-10-16 22:12:09 -0400 (Wed, 16 Oct 2024) EndedAt: 2024-10-16 22:22:51 -0400 (Wed, 16 Oct 2024) EllapsedTime: 642.7 seconds RetCode: 0 Status: OK PackageFile: sSNAPPY_1.8.0.tar.gz PackageFileSize: 2.345 MiB