Package: sSNAPPY Version: 1.8.0 Command: rm -rf sSNAPPY.buildbin-libdir && mkdir sSNAPPY.buildbin-libdir && E:\biocbuild\bbs-3.19-bioc\R\bin\R.exe CMD INSTALL --build --library=sSNAPPY.buildbin-libdir sSNAPPY_1.8.0.tar.gz StartedAt: 2024-10-17 08:43:56 -0400 (Thu, 17 Oct 2024) EndedAt: 2024-10-17 08:44:38 -0400 (Thu, 17 Oct 2024) EllapsedTime: 42.0 seconds RetCode: 0 Status: OK PackageFile: sSNAPPY_1.8.0.zip PackageFileSize: 2.412 MiB