Package: sSNAPPY Version: 1.8.0 Command: /Library/Frameworks/R.framework/Resources/bin/R CMD INSTALL sSNAPPY StartedAt: 2024-10-16 15:27:45 -0400 (Wed, 16 Oct 2024) EndedAt: 2024-10-16 15:28:57 -0400 (Wed, 16 Oct 2024) EllapsedTime: 71.3 seconds RetCode: 0 Status: OK