Package: sSNAPPY Version: 1.8.0 Command: /home/biocbuild/R/R-beta-2024-04-15_r86425/bin/R CMD build --keep-empty-dirs --no-resave-data sSNAPPY StartedAt: 2024-05-09 03:54:26 -0000 (Thu, 09 May 2024) EndedAt: 2024-05-09 04:02:31 -0000 (Thu, 09 May 2024) EllapsedTime: 484.7 seconds RetCode: 0 Status: OK PackageFile: sSNAPPY_1.8.0.tar.gz PackageFileSize: 2.629 MiB