Package: sSNAPPY Version: 1.8.0 Command: /Library/Frameworks/R.framework/Resources/bin/R CMD INSTALL sSNAPPY StartedAt: 2024-06-09 15:31:47 -0400 (Sun, 09 Jun 2024) EndedAt: 2024-06-09 15:32:36 -0400 (Sun, 09 Jun 2024) EllapsedTime: 49.3 seconds RetCode: 0 Status: OK