Package: sSNAPPY Version: 1.8.0 Command: /Library/Frameworks/R.framework/Resources/bin/R CMD check --install=check:sSNAPPY.install-out.txt --library=/Library/Frameworks/R.framework/Resources/library --no-vignettes --timings sSNAPPY_1.8.0.tar.gz StartedAt: 2024-06-11 07:16:32 -0400 (Tue, 11 Jun 2024) EndedAt: 2024-06-11 07:29:08 -0400 (Tue, 11 Jun 2024) EllapsedTime: 756.2 seconds RetCode: 0 Status: OK CheckDir: sSNAPPY.Rcheck Warnings: 0