Package: sSNAPPY Version: 1.8.0 Command: rm -rf sSNAPPY.buildbin-libdir && mkdir sSNAPPY.buildbin-libdir && /Users/biocbuild/BBS/utils/build-universal.sh sSNAPPY_1.8.0.tar.gz /Library/Frameworks/R.framework/Resources/bin/R sSNAPPY.buildbin-libdir StartedAt: 2024-06-11 13:25:45 -0400 (Tue, 11 Jun 2024) EndedAt: 2024-06-11 13:26:54 -0400 (Tue, 11 Jun 2024) EllapsedTime: 69.0 seconds RetCode: 0 Status: OK PackageFile: sSNAPPY_1.8.0.tgz PackageFileSize: 4.359 MiB