Package: sSNAPPY Version: 1.8.0 Command: rm -rf sSNAPPY.buildbin-libdir && mkdir sSNAPPY.buildbin-libdir && /Users/biocbuild/BBS/utils/build-universal.sh sSNAPPY_1.8.0.tar.gz /Library/Frameworks/R.framework/Resources/bin/R sSNAPPY.buildbin-libdir StartedAt: 2024-10-15 20:29:56 -0400 (Tue, 15 Oct 2024) EndedAt: 2024-10-15 20:30:44 -0400 (Tue, 15 Oct 2024) EllapsedTime: 47.6 seconds RetCode: 0 Status: OK PackageFile: sSNAPPY_1.8.0.tgz PackageFileSize: 4.359 MiB