Package: sRACIPE Version: 1.20.0 Command: E:\biocbuild\bbs-3.19-bioc\R\bin\R.exe CMD INSTALL sRACIPE StartedAt: 2024-10-16 16:39:31 -0400 (Wed, 16 Oct 2024) EndedAt: 2024-10-16 16:40:26 -0400 (Wed, 16 Oct 2024) EllapsedTime: 54.9 seconds RetCode: 0 Status: OK