Package: sRACIPE Version: 1.20.0 Command: chmod a+r sRACIPE -R && E:\biocbuild\bbs-3.19-bioc\R\bin\R.exe CMD build --keep-empty-dirs --no-resave-data sRACIPE StartedAt: 2024-10-16 22:11:10 -0400 (Wed, 16 Oct 2024) EndedAt: 2024-10-16 22:12:26 -0400 (Wed, 16 Oct 2024) EllapsedTime: 76.2 seconds RetCode: 0 Status: OK PackageFile: sRACIPE_1.20.0.tar.gz PackageFileSize: 1.652 MiB