Package: sRACIPE Version: 1.20.0 Command: rm -rf sRACIPE.buildbin-libdir && mkdir sRACIPE.buildbin-libdir && E:\biocbuild\bbs-3.19-bioc\R\bin\R.exe CMD INSTALL --build --library=sRACIPE.buildbin-libdir sRACIPE_1.20.0.tar.gz StartedAt: 2024-10-17 08:43:39 -0400 (Thu, 17 Oct 2024) EndedAt: 2024-10-17 08:44:44 -0400 (Thu, 17 Oct 2024) EllapsedTime: 65.4 seconds RetCode: 0 Status: OK PackageFile: sRACIPE_1.20.0.zip PackageFileSize: 1024 KiB