Package: sRACIPE Version: 1.20.0 Command: /home/biocbuild/bbs-3.19-bioc/R/bin/R CMD INSTALL sRACIPE StartedAt: 2024-10-16 16:18:00 -0400 (Wed, 16 Oct 2024) EndedAt: 2024-10-16 16:18:40 -0400 (Wed, 16 Oct 2024) EllapsedTime: 39.8 seconds RetCode: 0 Status: OK