Package: sRACIPE Version: 1.20.0 Command: /home/biocbuild/R/R-beta-2024-04-15_r86425/bin/R CMD build --keep-empty-dirs --no-resave-data sRACIPE StartedAt: 2024-05-09 03:53:59 -0000 (Thu, 09 May 2024) EndedAt: 2024-05-09 03:55:34 -0000 (Thu, 09 May 2024) EllapsedTime: 95.1 seconds RetCode: 0 Status: OK PackageFile: sRACIPE_1.20.0.tar.gz PackageFileSize: 1.767 MiB