Package: sRACIPE Version: 1.20.0 Command: /Library/Frameworks/R.framework/Resources/bin/R CMD build --keep-empty-dirs --no-resave-data sRACIPE StartedAt: 2024-06-10 05:33:13 -0400 (Mon, 10 Jun 2024) EndedAt: 2024-06-10 05:34:50 -0400 (Mon, 10 Jun 2024) EllapsedTime: 97.4 seconds RetCode: 0 Status: OK PackageFile: sRACIPE_1.20.0.tar.gz PackageFileSize: 1.892 MiB