Package: sRACIPE Version: 1.20.0 Command: rm -rf sRACIPE.buildbin-libdir && mkdir sRACIPE.buildbin-libdir && /Users/biocbuild/BBS/utils/build-universal.sh sRACIPE_1.20.0.tar.gz /Library/Frameworks/R.framework/Resources/bin/R sRACIPE.buildbin-libdir StartedAt: 2024-06-11 13:25:23 -0400 (Tue, 11 Jun 2024) EndedAt: 2024-06-11 13:26:56 -0400 (Tue, 11 Jun 2024) EllapsedTime: 93.5 seconds RetCode: 0 Status: OK PackageFile: sRACIPE_1.20.0.tgz PackageFileSize: 934.1 KiB