Package: sRACIPE Version: 1.20.0 Command: /Library/Frameworks/R.framework/Resources/bin/R CMD build --keep-empty-dirs --no-resave-data sRACIPE StartedAt: 2024-10-17 10:08:26 -0400 (Thu, 17 Oct 2024) EndedAt: 2024-10-17 10:09:37 -0400 (Thu, 17 Oct 2024) EllapsedTime: 71.2 seconds RetCode: 0 Status: OK PackageFile: sRACIPE_1.20.0.tar.gz PackageFileSize: 1.901 MiB