Package: runibic Version: 1.26.0 Command: chmod a+r runibic -R && E:\biocbuild\bbs-3.19-bioc\R\bin\R.exe CMD build --keep-empty-dirs --no-resave-data runibic StartedAt: 2024-10-16 21:40:02 -0400 (Wed, 16 Oct 2024) EndedAt: 2024-10-16 21:40:51 -0400 (Wed, 16 Oct 2024) EllapsedTime: 48.4 seconds RetCode: 0 Status: OK PackageFile: runibic_1.26.0.tar.gz PackageFileSize: 44.89 KiB