Package: runibic Version: 1.26.0 Command: /home/biocbuild/bbs-3.19-bioc/R/bin/R CMD check --install=check:runibic.install-out.txt --library=/home/biocbuild/bbs-3.19-bioc/R/site-library --timings runibic_1.26.0.tar.gz StartedAt: 2024-10-17 04:38:03 -0400 (Thu, 17 Oct 2024) EndedAt: 2024-10-17 04:40:49 -0400 (Thu, 17 Oct 2024) EllapsedTime: 165.4 seconds RetCode: 0 Status: OK CheckDir: runibic.Rcheck Warnings: 0