Package: rtracklayer Version: 1.64.0 Command: rm -rf rtracklayer.buildbin-libdir && mkdir rtracklayer.buildbin-libdir && E:\biocbuild\bbs-3.19-bioc\R\bin\R.exe CMD INSTALL --build --library=rtracklayer.buildbin-libdir rtracklayer_1.64.0.tar.gz StartedAt: 2024-10-17 08:32:35 -0400 (Thu, 17 Oct 2024) EndedAt: 2024-10-17 08:36:58 -0400 (Thu, 17 Oct 2024) EllapsedTime: 263.4 seconds RetCode: 0 Status: OK PackageFile: rtracklayer_1.64.0.zip PackageFileSize: 9.2 MiB