Package: rtracklayer Version: 1.64.0 Command: F:\biocbuild\bbs-3.19-bioc\R\bin\R.exe CMD INSTALL rtracklayer StartedAt: 2024-06-26 16:00:50 -0400 (Wed, 26 Jun 2024) EndedAt: 2024-06-26 16:03:15 -0400 (Wed, 26 Jun 2024) EllapsedTime: 145.0 seconds RetCode: 0 Status: OK