Package: rtracklayer Version: 1.64.0 Command: /home/biocbuild/bbs-3.19-bioc/R/bin/R CMD check --install=check:rtracklayer.install-out.txt --library=/home/biocbuild/bbs-3.19-bioc/R/site-library --timings rtracklayer_1.64.0.tar.gz StartedAt: 2024-10-17 04:37:24 -0400 (Thu, 17 Oct 2024) EndedAt: 2024-10-17 04:43:36 -0400 (Thu, 17 Oct 2024) EllapsedTime: 371.9 seconds RetCode: 0 Status: WARNINGS CheckDir: rtracklayer.Rcheck Warnings: 5