Package: rtracklayer Version: 1.64.0 Command: /Library/Frameworks/R.framework/Resources/bin/R CMD check --install=check:rtracklayer.install-out.txt --library=/Library/Frameworks/R.framework/Resources/library --no-vignettes --timings rtracklayer_1.64.0.tar.gz StartedAt: 2024-10-17 12:19:33 -0400 (Thu, 17 Oct 2024) EndedAt: 2024-10-17 12:31:22 -0400 (Thu, 17 Oct 2024) EllapsedTime: 708.5 seconds RetCode: 0 Status: WARNINGS CheckDir: rtracklayer.Rcheck Warnings: 5