Package: rtracklayer Version: 1.64.0 Command: /Library/Frameworks/R.framework/Resources/bin/R CMD check --install=check:rtracklayer.install-out.txt --library=/Library/Frameworks/R.framework/Resources/library --no-vignettes --timings rtracklayer_1.64.0.tar.gz StartedAt: 2024-06-09 22:45:30 -0400 (Sun, 09 Jun 2024) EndedAt: 2024-06-09 22:51:50 -0400 (Sun, 09 Jun 2024) EllapsedTime: 380.1 seconds RetCode: 0 Status: WARNINGS CheckDir: rtracklayer.Rcheck Warnings: 5