Package: rtracklayer Version: 1.64.0 Command: /home/biocbuild/R/R-beta-2024-04-15_r86425/bin/R CMD INSTALL rtracklayer StartedAt: 2024-05-08 20:20:33 -0000 (Wed, 08 May 2024) EndedAt: 2024-05-08 20:21:44 -0000 (Wed, 08 May 2024) EllapsedTime: 70.9 seconds RetCode: 0 Status: OK