Package: rtracklayer Version: 1.64.0 Command: /home/biocbuild/R/R-beta-2024-04-15_r86425/bin/R CMD check --install=check:rtracklayer.install-out.txt --library=/home/biocbuild/R/R-beta-2024-04-15_r86425/site-library --no-vignettes --timings rtracklayer_1.64.0.tar.gz StartedAt: 2024-05-09 11:28:17 -0000 (Thu, 09 May 2024) EndedAt: 2024-05-09 11:36:37 -0000 (Thu, 09 May 2024) EllapsedTime: 500.3 seconds RetCode: 0 Status: WARNINGS CheckDir: rtracklayer.Rcheck Warnings: 5