Package: rtracklayer Version: 1.64.0 Command: /home/biocbuild/R/R-beta-2024-04-15_r86425/bin/R CMD build --keep-empty-dirs --no-resave-data rtracklayer StartedAt: 2024-05-09 03:13:23 -0000 (Thu, 09 May 2024) EndedAt: 2024-05-09 03:15:06 -0000 (Thu, 09 May 2024) EllapsedTime: 103.1 seconds RetCode: 0 Status: OK PackageFile: rtracklayer_1.64.0.tar.gz PackageFileSize: 3.898 MiB