Package: rtracklayer Version: 1.64.0 Command: rm -rf rtracklayer.buildbin-libdir && mkdir rtracklayer.buildbin-libdir && /Users/biocbuild/BBS/utils/build-universal.sh rtracklayer_1.64.0.tar.gz /Library/Frameworks/R.framework/Resources/bin/R rtracklayer.buildbin-libdir StartedAt: 2024-10-15 20:02:50 -0400 (Tue, 15 Oct 2024) EndedAt: 2024-10-15 20:04:11 -0400 (Tue, 15 Oct 2024) EllapsedTime: 80.8 seconds RetCode: 0 Status: OK PackageFile: rtracklayer_1.64.0.tgz PackageFileSize: 6.366 MiB