Package: rsemmed Version: 1.14.0 Command: /home/biocbuild/bbs-3.19-bioc/R/bin/R CMD check --install=check:rsemmed.install-out.txt --library=/home/biocbuild/bbs-3.19-bioc/R/site-library --timings rsemmed_1.14.0.tar.gz StartedAt: 2024-10-17 04:35:02 -0400 (Thu, 17 Oct 2024) EndedAt: 2024-10-17 04:35:48 -0400 (Thu, 17 Oct 2024) EllapsedTime: 46.1 seconds RetCode: 0 Status: OK CheckDir: rsemmed.Rcheck Warnings: 0