Package: rsemmed Version: 1.14.0 Command: /home/biocbuild/bbs-3.19-bioc/R/bin/R CMD build --keep-empty-dirs --no-resave-data rsemmed StartedAt: 2024-10-16 20:33:26 -0400 (Wed, 16 Oct 2024) EndedAt: 2024-10-16 20:33:46 -0400 (Wed, 16 Oct 2024) EllapsedTime: 20.1 seconds RetCode: 0 Status: OK PackageFile: rsemmed_1.14.0.tar.gz PackageFileSize: 2.07 MiB