Package: rsbml Version: 2.62.0 Command: chmod a+r rsbml -R && F:\biocbuild\bbs-3.19-bioc\R\bin\R.exe CMD build --keep-empty-dirs --no-resave-data rsbml StartedAt: 2024-06-26 21:32:37 -0400 (Wed, 26 Jun 2024) EndedAt: 2024-06-26 21:33:38 -0400 (Wed, 26 Jun 2024) EllapsedTime: 61.7 seconds RetCode: 0 Status: OK PackageFile: rsbml_2.62.0.tar.gz PackageFileSize: 499.6 KiB