Package: rsbml Version: 2.62.0 Command: rm -rf rsbml.buildbin-libdir && mkdir rsbml.buildbin-libdir && F:\biocbuild\bbs-3.19-bioc\R\bin\R.exe CMD INSTALL --build --library=rsbml.buildbin-libdir rsbml_2.62.0.tar.gz StartedAt: 2024-06-27 08:49:59 -0400 (Thu, 27 Jun 2024) EndedAt: 2024-06-27 08:50:59 -0400 (Thu, 27 Jun 2024) EllapsedTime: 60.0 seconds RetCode: 0 Status: OK PackageFile: rsbml_2.62.0.zip PackageFileSize: 6.513 MiB