Package: rqubic Version: 1.50.0 Command: E:\biocbuild\bbs-3.19-bioc\R\bin\R.exe CMD check --no-multiarch --install=check:rqubic.install-out.txt --library=E:\biocbuild\bbs-3.19-bioc\R\library --no-vignettes --timings rqubic_1.50.0.tar.gz StartedAt: 2024-10-17 05:14:43 -0400 (Thu, 17 Oct 2024) EndedAt: 2024-10-17 05:15:54 -0400 (Thu, 17 Oct 2024) EllapsedTime: 71.2 seconds RetCode: 0 Status: WARNINGS CheckDir: rqubic.Rcheck Warnings: 1