Package: rqt Version: 1.29.0 Command: /home/biocbuild/bbs-3.19-bioc/R/bin/R CMD check --install=check:rqt.install-out.txt --library=/home/biocbuild/bbs-3.19-bioc/R/site-library --timings rqt_1.29.0.tar.gz StartedAt: 2024-04-06 02:23:42 -0400 (Sat, 06 Apr 2024) EndedAt: 2024-04-06 02:26:59 -0400 (Sat, 06 Apr 2024) EllapsedTime: 197.4 seconds RetCode: 0 Status: OK CheckDir: rqt.Rcheck Warnings: 0