Package: rqt Version: 1.30.0 Command: /home/biocbuild/bbs-3.19-bioc/R/bin/R CMD build --keep-empty-dirs --no-resave-data rqt StartedAt: 2024-10-16 20:32:57 -0400 (Wed, 16 Oct 2024) EndedAt: 2024-10-16 20:33:24 -0400 (Wed, 16 Oct 2024) EllapsedTime: 27.1 seconds RetCode: 1 Status: ERROR PackageFile: None PackageFileSize: NA